BEGIN:VCALENDAR
VERSION:2.0
PRODID:-//Loyan Foundation - ECPv6.3.7//NONSGML v1.0//EN
CALSCALE:GREGORIAN
METHOD:PUBLISH
X-WR-CALNAME:Loyan Foundation
X-ORIGINAL-URL:https://loyanfoundation.org
X-WR-CALDESC:Events for Loyan Foundation
REFRESH-INTERVAL;VALUE=DURATION:PT1H
X-Robots-Tag:noindex
X-PUBLISHED-TTL:PT1H
BEGIN:VTIMEZONE
TZID:America/Toronto
BEGIN:DAYLIGHT
TZOFFSETFROM:-0500
TZOFFSETTO:-0400
TZNAME:EDT
DTSTART:20220313T070000
END:DAYLIGHT
BEGIN:STANDARD
TZOFFSETFROM:-0400
TZOFFSETTO:-0500
TZNAME:EST
DTSTART:20221106T060000
END:STANDARD
END:VTIMEZONE
BEGIN:VEVENT
DTSTART;VALUE=DATE:20221001
DTEND;VALUE=DATE:20221002
DTSTAMP:20260423T014456
CREATED:20220925T183657Z
LAST-MODIFIED:20220925T184817Z
UID:10741-1664582400-1664668799@loyanfoundation.org
SUMMARY:Understanding Black Mental Health & Networking
DESCRIPTION:Join us on October 1st for a discussion on innovative solutions to address social-health and economic disparities in Canada. \nThere is an urgency for affordable and culturally sensitive mental health services for Black people across Canada. \nOur Black mental health discussion takes a holistic health approach and provides a space for healthcare providers\, business owners and community workers to discuss some of the social-health and economic disparities that Black people across Canada experience and design solutions to combat these issues. \nCheck out our table booth to get connected with Black therapists as well as employers\, community organizations and healthcare providers. \nFor entrepreneurs and small business owners connect with event sponsors to learn about the services they offer and how they can help you expand your business. \nOur conference will discuss the following: \n\nUnderstanding Competing Priorities and the impact on Mental health led by TAIBU\nHousing Rights and Advocacy and impacts on Black Mental Health\nExperiences of Black Caregivers led by CEE Toronto\nAddressing Unemployment and Black Mental Health: How prepared are our Black youth and communities for the changing Canadian workforce led by Career Foundation\nFinance literacy for priority neighborhoods.\n\nThere is also an option to join us virtually\, however\, we would love to see you in-person\, there will be tabling booths for Black businesses and therapist as well as a speaking opportunity. \nJoin us in-person for a chance to win a $10 Tim Horton. \nHave any questions send us an email us at: eventsloyanfoundation@gmail.com \nWe hope to see you there
URL:https://loyanfoundation.org/event/understanding-black-mental-health-networking/
CATEGORIES:Black Mental Health & Networking
ATTACH;FMTTYPE=image/png:https://loyanfoundation.org/wp-content/uploads/2022/09/Screen-Shot-2022-09-25-at-2.31.53-PM.png
END:VEVENT
END:VCALENDAR